BEGIN:VCALENDAR
VERSION:2.0
PRODID:-//hacksw/handcal//NONSGML v1.0//EN
BEGIN:VEVENT
SUMMARY:GREOUX LES BAINS 04 (ATCC) LES BOUCLES DU VERDON – CYCLOSPORTIVE
UID:870d7f89-901b-4f6d-acf7-6b4d24a95f2a
DTSTART:20260517T054500Z
DTEND:20260517T140000Z
LOCATION:Localisation   GREOUX  LES BAINS
CATEGORIES:Sportif
STATUS:
DESCRIPTION:<p><b>17 mai 2026 <b>GREOUX LES BAINS
 04 </b></b>(ATCC) <b>LES BOUCLES DU VERDON</b> <b>–
 CYCLOSPORTIVE</b><br>
 Circuit de 80-105-152
 Kms <strong>Dossards</strong> le 16 mai de 14h a 20h et le 17 mai
 de 6h30 a 8h<br>
 <strong>Depart </strong> a 8h30 (152 Kms) ; 8h45
 (105 Kms) ; 9h (80 kms) <br>
 <b><strong>Contact </strong></b>ATCC 
 Gerard MARSERO  Tel 06.08.69.87.57 ou <a
 href="mailto:lesbouclesduverdon@gmail.com">lesbouclesduverdon@gmail.com</a><br>
 <b><strong>Engagements</strong> : <a
 href="http://www.sportsnconnect.com/" target="_blank" rel="noreferrer
 noopener">www.sportsnconnect.com</a> <b><em>limitee a 1500 
 participants </em></b></b></p>
URL;VALUE=URI:https://s2c.sportsregions.fr/evenements/2026/05/17/greoux-les-bains-04-atcc-les-boucles-du-verdon-cyclosportive-2429058
END:VEVENT
END:VCALENDAR
